BEGIN:VCALENDAR
PRODID:-//nuDatenautomaten//framework iCal4j //DE
VERSION:2.0
CALSCALE:GREGORIAN
BEGIN:VTIMEZONE
TZID:Europe/Berlin
LAST-MODIFIED:20260306T231828Z
TZURL:https://www.tzurl.org/zoneinfo/Europe/Berlin
X-LIC-LOCATION:Europe/Berlin
X-PROLEPTIC-TZNAME:LMT
BEGIN:STANDARD
TZNAME:CET
TZOFFSETFROM:+005328
TZOFFSETTO:+0100
DTSTART:18930401T000000
END:STANDARD
BEGIN:DAYLIGHT
TZNAME:CEST
TZOFFSETFROM:+0100
TZOFFSETTO:+0200
DTSTART:19160430T230000
RDATE:19400401T020000
RDATE:19430329T020000
RDATE:19460414T020000
RDATE:19470406T030000
RDATE:19480418T020000
RDATE:19490410T020000
RDATE:19800406T020000
END:DAYLIGHT
BEGIN:STANDARD
TZNAME:CET
TZOFFSETFROM:+0200
TZOFFSETTO:+0100
DTSTART:19161001T010000
RDATE:19421102T030000
RDATE:19431004T030000
RDATE:19441002T030000
RDATE:19451118T030000
RDATE:19461007T030000
END:STANDARD
BEGIN:DAYLIGHT
TZNAME:CEST
TZOFFSETFROM:+0100
TZOFFSETTO:+0200
DTSTART:19170416T020000
RRULE:FREQ=YEARLY;UNTIL=19180415T010000Z;BYMONTH=4;BYDAY=3MO
END:DAYLIGHT
BEGIN:STANDARD
TZNAME:CET
TZOFFSETFROM:+0200
TZOFFSETTO:+0100
DTSTART:19170917T030000
RRULE:FREQ=YEARLY;UNTIL=19180916T010000Z;BYMONTH=9;BYDAY=3MO
END:STANDARD
BEGIN:DAYLIGHT
TZNAME:CEST
TZOFFSETFROM:+0100
TZOFFSETTO:+0200
DTSTART:19440403T020000
RRULE:FREQ=YEARLY;UNTIL=19450402T010000Z;BYMONTH=4;BYDAY=1MO
END:DAYLIGHT
BEGIN:DAYLIGHT
TZNAME:CEMT
TZOFFSETFROM:+0200
TZOFFSETTO:+0300
DTSTART:19450524T020000
RDATE:19470511T030000
END:DAYLIGHT
BEGIN:DAYLIGHT
TZNAME:CEST
TZOFFSETFROM:+0300
TZOFFSETTO:+0200
DTSTART:19450924T030000
RDATE:19470629T030000
END:DAYLIGHT
BEGIN:STANDARD
TZNAME:CET
TZOFFSETFROM:+0100
TZOFFSETTO:+0100
DTSTART:19460101T000000
RDATE:19800101T000000
END:STANDARD
BEGIN:STANDARD
TZNAME:CET
TZOFFSETFROM:+0200
TZOFFSETTO:+0100
DTSTART:19471005T030000
RRULE:FREQ=YEARLY;UNTIL=19491002T010000Z;BYMONTH=10;BYDAY=1SU
END:STANDARD
BEGIN:STANDARD
TZNAME:CET
TZOFFSETFROM:+0200
TZOFFSETTO:+0100
DTSTART:19800928T030000
RRULE:FREQ=YEARLY;UNTIL=19950924T010000Z;BYMONTH=9;BYDAY=-1SU
END:STANDARD
BEGIN:DAYLIGHT
TZNAME:CEST
TZOFFSETFROM:+0100
TZOFFSETTO:+0200
DTSTART:19810329T020000
RRULE:FREQ=YEARLY;BYMONTH=3;BYDAY=-1SU
END:DAYLIGHT
BEGIN:STANDARD
TZNAME:CET
TZOFFSETFROM:+0200
TZOFFSETTO:+0100
DTSTART:19961027T030000
RRULE:FREQ=YEARLY;BYMONTH=10;BYDAY=-1SU
END:STANDARD
END:VTIMEZONE
BEGIN:VEVENT
DTSTAMP:20260425T182910Z
DTSTART;TZID=Europe/Berlin:20200111T140000
DTEND;TZID=Europe/Berlin:20200111T150000
SUMMARY:MJB-Landesliga TSG Oberursel vs HSG Aschafftal (7)
UID:c1e7f1ea-2814-40ad-93e2-10468556d2b4
STATUS:CONFIRMED
LAST-MODIFIED:20200111T150537Z
DESCRIPTION:Männliche Jugend B - Landesliga\nBegegnungs-Nr: 7\nHeim: TSG Oberursel\nGast: HSG Aschafftal\nHalle: Erich-Kästner-Schule mT (16539)\nAdresse: Karl-Hermann-Flach-Straße 60\, 61440 Oberursel\n
LOCATION:Erich-Kästner-Schule mT (16539): Karl-Hermann-Flach-Straße 60\, 61440 Oberursel
CATEGORIES:Saison 2019/20
END:VEVENT
BEGIN:VEVENT
DTSTAMP:20260425T182910Z
DTSTART;TZID=Europe/Berlin:20191201T144500
DTEND;TZID=Europe/Berlin:20191201T154500
SUMMARY:MJB-Landesliga TSG Oberursel vs GSV Eintr. Baunatal (28)
UID:f1ddd69a-238e-4fed-b9e1-0bc570914357
STATUS:CONFIRMED
LAST-MODIFIED:20191201T152153Z
DESCRIPTION:Männliche Jugend B - Landesliga\nBegegnungs-Nr: 28\nHeim: TSG Oberursel\nGast: GSV Eintr. Baunatal\nHalle: Erich-Kästner-Schule mT (16539)\nAdresse: Karl-Hermann-Flach-Straße 60\, 61440 Oberursel\n
LOCATION:Erich-Kästner-Schule mT (16539): Karl-Hermann-Flach-Straße 60\, 61440 Oberursel
CATEGORIES:Saison 2019/20
END:VEVENT
BEGIN:VEVENT
DTSTAMP:20260425T182910Z
DTSTART;TZID=Europe/Berlin:20191027T141500
DTEND;TZID=Europe/Berlin:20191027T151500
SUMMARY:MJB-Landesliga TSG Oberursel vs HSG Wettenberg (14)
UID:739d08ec-3085-48ea-9a39-df28c1eefa18
STATUS:CONFIRMED
LAST-MODIFIED:20191029T170640Z
DESCRIPTION:Männliche Jugend B - Landesliga\nBegegnungs-Nr: 14\nHeim: TSG Oberursel\nGast: HSG Wettenberg\nHalle: Erich-Kästner-Schule mT (16539)\nAdresse: Karl-Hermann-Flach-Straße 60\, 61440 Oberursel\n
LOCATION:Erich-Kästner-Schule mT (16539): Karl-Hermann-Flach-Straße 60\, 61440 Oberursel
CATEGORIES:Saison 2019/20
END:VEVENT
BEGIN:VEVENT
DTSTAMP:20260425T182910Z
DTSTART;TZID=Europe/Berlin:20200222T140000
DTEND;TZID=Europe/Berlin:20200222T150000
SUMMARY:MJB-Landesliga TSG Oberursel vs TuS Holzheim (47)
UID:97b1e973-258f-4a68-b507-49aa9bc9909c
STATUS:CONFIRMED
LAST-MODIFIED:20200222T150351Z
DESCRIPTION:Männliche Jugend B - Landesliga\nBegegnungs-Nr: 47\nHeim: TSG Oberursel\nGast: TuS Holzheim\nHalle: Erich-Kästner-Schule mT (16539)\nAdresse: Karl-Hermann-Flach-Straße 60\, 61440 Oberursel\n
LOCATION:Erich-Kästner-Schule mT (16539): Karl-Hermann-Flach-Straße 60\, 61440 Oberursel
CATEGORIES:Saison 2019/20
END:VEVENT
BEGIN:VEVENT
DTSTAMP:20260425T182910Z
DTSTART;TZID=Europe/Berlin:20200209T131500
DTEND;TZID=Europe/Berlin:20200209T141500
SUMMARY:MJB-Landesliga TSG Oberursel vs TV Trebur (37)
UID:a3fc33fc-126e-4645-bd88-facf668bc489
STATUS:CONFIRMED
LAST-MODIFIED:20200209T162947Z
DESCRIPTION:Männliche Jugend B - Landesliga\nBegegnungs-Nr: 37\nHeim: TSG Oberursel\nGast: TV Trebur\nHalle: Erich-Kästner-Schule mT (16539)\nAdresse: Karl-Hermann-Flach-Straße 60\, 61440 Oberursel\n
LOCATION:Erich-Kästner-Schule mT (16539): Karl-Hermann-Flach-Straße 60\, 61440 Oberursel
CATEGORIES:Saison 2019/20
END:VEVENT
BEGIN:VEVENT
DTSTAMP:20260425T182910Z
DTSTART;TZID=Europe/Berlin:20191215T124500
DTEND;TZID=Europe/Berlin:20191215T134500
SUMMARY:MJB-Landesliga TSG Oberursel vs TuSpo Obernburg (31)
UID:43156cf0-2a90-4809-8cba-d145564124cd
STATUS:CONFIRMED
LAST-MODIFIED:20191215T142836Z
DESCRIPTION:Männliche Jugend B - Landesliga\nBegegnungs-Nr: 31\nHeim: TSG Oberursel\nGast: TuSpo Obernburg\nHalle: Erich-Kästner-Schule mT (16539)\nAdresse: Karl-Hermann-Flach-Straße 60\, 61440 Oberursel\n
LOCATION:Erich-Kästner-Schule mT (16539): Karl-Hermann-Flach-Straße 60\, 61440 Oberursel
CATEGORIES:Saison 2019/20
END:VEVENT
BEGIN:VEVENT
DTSTAMP:20260425T182910Z
DTSTART;TZID=Europe/Berlin:20200301T160000
DTEND;TZID=Europe/Berlin:20200301T170000
SUMMARY:MJB-Landesliga TSG Oberursel vs TV Gelnhausen (52)
UID:51857e17-03b2-47a9-9b51-83f6bd665854
STATUS:CONFIRMED
LAST-MODIFIED:20200301T163940Z
DESCRIPTION:Männliche Jugend B - Landesliga\nBegegnungs-Nr: 52\nHeim: TSG Oberursel\nGast: TV Gelnhausen\nHalle: Erich-Kästner-Schule mT (16539)\nAdresse: Karl-Hermann-Flach-Straße 60\, 61440 Oberursel\n
LOCATION:Erich-Kästner-Schule mT (16539): Karl-Hermann-Flach-Straße 60\, 61440 Oberursel
CATEGORIES:Saison 2019/20
END:VEVENT
BEGIN:VEVENT
DTSTAMP:20260425T182910Z
DTSTART;TZID=Europe/Berlin:20200201T113000
DTEND;TZID=Europe/Berlin:20200201T123000
SUMMARY:MJB-Landesliga TuS Holzheim vs TSG Oberursel (19)
UID:64ca38f5-c975-4eed-a63d-6ddd5099f886
STATUS:CONFIRMED
LAST-MODIFIED:20200201T133608Z
DESCRIPTION:Männliche Jugend B - Landesliga\nBegegnungs-Nr: 19\nHeim: TuS Holzheim\nGast: TSG Oberursel\nHalle: Zentrale Sportanlage Diez (16108)\nAdresse: Am Katzenstein 2A\, 65582 Diez\n
LOCATION:Zentrale Sportanlage Diez (16108): Am Katzenstein 2A\, 65582 Diez
CATEGORIES:Saison 2019/20
END:VEVENT
BEGIN:VEVENT
DTSTAMP:20260425T182910Z
DTSTART;TZID=Europe/Berlin:20200125T151500
DTEND;TZID=Europe/Berlin:20200125T161500
SUMMARY:MJB-Landesliga HSG Aschafftal vs TSG Oberursel (35)
UID:d4c0768f-879e-486c-984c-521053634076
STATUS:CONFIRMED
LAST-MODIFIED:20200125T204630Z
DESCRIPTION:Männliche Jugend B - Landesliga\nBegegnungs-Nr: 35\nHeim: HSG Aschafftal\nGast: TSG Oberursel\nHalle: Kultur- und Sportpark Hösbach (19129)\nAdresse: Jahnstraße 5-7\, 63768 Hösbach\n
LOCATION:Kultur- und Sportpark Hösbach (19129): Jahnstraße 5-7\, 63768 Hösbach
CATEGORIES:Saison 2019/20
END:VEVENT
BEGIN:VEVENT
DTSTAMP:20260425T182910Z
DTSTART;TZID=Europe/Berlin:20191124T150000
DTEND;TZID=Europe/Berlin:20191124T160000
SUMMARY:MJB-Landesliga TV Gelnhausen vs TSG Oberursel (24)
UID:a9e4a2af-375c-403b-bb02-263ca25f8596
STATUS:CONFIRMED
LAST-MODIFIED:20191124T163227Z
DESCRIPTION:Männliche Jugend B - Landesliga\nBegegnungs-Nr: 24\nHeim: TV Gelnhausen\nGast: TSG Oberursel\nHalle: Rudi-Lechleidner-Halle (17116)\nAdresse: Am Hallenbad\, 63571 Gelnhausen\n
LOCATION:Rudi-Lechleidner-Halle (17116): Am Hallenbad\, 63571 Gelnhausen
CATEGORIES:Saison 2019/20
END:VEVENT
BEGIN:VEVENT
DTSTAMP:20260425T182910Z
DTSTART;TZID=Europe/Berlin:20200216T144500
DTEND;TZID=Europe/Berlin:20200216T154500
SUMMARY:MJB-Landesliga HSG Wettenberg vs TSG Oberursel (42)
UID:b19cf13c-760b-4c0c-9b47-017bfc94617a
STATUS:CONFIRMED
LAST-MODIFIED:20200216T153717Z
DESCRIPTION:Männliche Jugend B - Landesliga\nBegegnungs-Nr: 42\nHeim: HSG Wettenberg\nGast: TSG Oberursel\nHalle: Halle GS Launsbach (14177)\nAdresse: Schaal 60\, 35435 Wettenberg\n
LOCATION:Halle GS Launsbach (14177): Schaal 60\, 35435 Wettenberg
CATEGORIES:Saison 2019/20
END:VEVENT
BEGIN:VEVENT
DTSTAMP:20260425T182910Z
DTSTART;TZID=Europe/Berlin:20190915T150000
DTEND;TZID=Europe/Berlin:20190915T160000
SUMMARY:MJB-Landesliga TuSpo Obernburg vs TSG Oberursel (3)
UID:04ff178c-70fe-46f6-aee0-daaa41721b43
STATUS:CONFIRMED
LAST-MODIFIED:20190926T111705Z
DESCRIPTION:Männliche Jugend B - Landesliga\nBegegnungs-Nr: 3\nHeim: TuSpo Obernburg\nGast: TSG Oberursel\nHalle: Valentin-Ballmann-Halle Obernburg (19141)\nAdresse: Oberer Neuer Weg/Schulzentrum\, 63785 Obernburg\n
LOCATION:Valentin-Ballmann-Halle Obernburg (19141): Oberer Neuer Weg/Schulzentrum\, 63785 Obernburg
CATEGORIES:Saison 2019/20
END:VEVENT
BEGIN:VEVENT
DTSTAMP:20260425T182910Z
DTSTART;TZID=Europe/Berlin:20191020T161500
DTEND;TZID=Europe/Berlin:20191020T171500
SUMMARY:MJB-Landesliga TV Trebur vs TSG Oberursel (9)
UID:548b892f-8089-4653-a709-ef8d886c6c4e
STATUS:CONFIRMED
LAST-MODIFIED:20191021T161242Z
DESCRIPTION:Männliche Jugend B - Landesliga\nBegegnungs-Nr: 9\nHeim: TV Trebur\nGast: TSG Oberursel\nHalle: MPS Trebur (18172)\nAdresse: Theobaldstraße 49\, 65468 Trebur\n
LOCATION:MPS Trebur (18172): Theobaldstraße 49\, 65468 Trebur
CATEGORIES:Saison 2019/20
END:VEVENT
END:VCALENDAR
