BEGIN:VCALENDAR
PRODID:-//nuDatenautomaten//framework iCal4j //DE
VERSION:2.0
CALSCALE:GREGORIAN
BEGIN:VTIMEZONE
TZID:Europe/Berlin
LAST-MODIFIED:20260306T231828Z
TZURL:https://www.tzurl.org/zoneinfo/Europe/Berlin
X-LIC-LOCATION:Europe/Berlin
X-PROLEPTIC-TZNAME:LMT
BEGIN:STANDARD
TZNAME:CET
TZOFFSETFROM:+005328
TZOFFSETTO:+0100
DTSTART:18930401T000000
END:STANDARD
BEGIN:DAYLIGHT
TZNAME:CEST
TZOFFSETFROM:+0100
TZOFFSETTO:+0200
DTSTART:19160430T230000
RDATE:19400401T020000
RDATE:19430329T020000
RDATE:19460414T020000
RDATE:19470406T030000
RDATE:19480418T020000
RDATE:19490410T020000
RDATE:19800406T020000
END:DAYLIGHT
BEGIN:STANDARD
TZNAME:CET
TZOFFSETFROM:+0200
TZOFFSETTO:+0100
DTSTART:19161001T010000
RDATE:19421102T030000
RDATE:19431004T030000
RDATE:19441002T030000
RDATE:19451118T030000
RDATE:19461007T030000
END:STANDARD
BEGIN:DAYLIGHT
TZNAME:CEST
TZOFFSETFROM:+0100
TZOFFSETTO:+0200
DTSTART:19170416T020000
RRULE:FREQ=YEARLY;UNTIL=19180415T010000Z;BYMONTH=4;BYDAY=3MO
END:DAYLIGHT
BEGIN:STANDARD
TZNAME:CET
TZOFFSETFROM:+0200
TZOFFSETTO:+0100
DTSTART:19170917T030000
RRULE:FREQ=YEARLY;UNTIL=19180916T010000Z;BYMONTH=9;BYDAY=3MO
END:STANDARD
BEGIN:DAYLIGHT
TZNAME:CEST
TZOFFSETFROM:+0100
TZOFFSETTO:+0200
DTSTART:19440403T020000
RRULE:FREQ=YEARLY;UNTIL=19450402T010000Z;BYMONTH=4;BYDAY=1MO
END:DAYLIGHT
BEGIN:DAYLIGHT
TZNAME:CEMT
TZOFFSETFROM:+0200
TZOFFSETTO:+0300
DTSTART:19450524T020000
RDATE:19470511T030000
END:DAYLIGHT
BEGIN:DAYLIGHT
TZNAME:CEST
TZOFFSETFROM:+0300
TZOFFSETTO:+0200
DTSTART:19450924T030000
RDATE:19470629T030000
END:DAYLIGHT
BEGIN:STANDARD
TZNAME:CET
TZOFFSETFROM:+0100
TZOFFSETTO:+0100
DTSTART:19460101T000000
RDATE:19800101T000000
END:STANDARD
BEGIN:STANDARD
TZNAME:CET
TZOFFSETFROM:+0200
TZOFFSETTO:+0100
DTSTART:19471005T030000
RRULE:FREQ=YEARLY;UNTIL=19491002T010000Z;BYMONTH=10;BYDAY=1SU
END:STANDARD
BEGIN:STANDARD
TZNAME:CET
TZOFFSETFROM:+0200
TZOFFSETTO:+0100
DTSTART:19800928T030000
RRULE:FREQ=YEARLY;UNTIL=19950924T010000Z;BYMONTH=9;BYDAY=-1SU
END:STANDARD
BEGIN:DAYLIGHT
TZNAME:CEST
TZOFFSETFROM:+0100
TZOFFSETTO:+0200
DTSTART:19810329T020000
RRULE:FREQ=YEARLY;BYMONTH=3;BYDAY=-1SU
END:DAYLIGHT
BEGIN:STANDARD
TZNAME:CET
TZOFFSETFROM:+0200
TZOFFSETTO:+0100
DTSTART:19961027T030000
RRULE:FREQ=YEARLY;BYMONTH=10;BYDAY=-1SU
END:STANDARD
END:VTIMEZONE
BEGIN:VEVENT
DTSTAMP:20260425T224657Z
DTSTART;TZID=Europe/Berlin:20240127T150000
DTEND;TZID=Europe/Berlin:20240127T163000
SUMMARY:F-Landesliga Nord HSG Baunatal vs TSG Dittershausen (89)
UID:86a74416-f0f4-4859-8e37-e8993a5df3ff
STATUS:CONFIRMED
LAST-MODIFIED:20240129T141305Z
DESCRIPTION:Frauen Landesliga - Nord\nBegegnungs-Nr: 89\nHeim: HSG Baunatal\nGast: TSG Dittershausen\nHalle: Sporthalle Hertingshausen (11111)\nAdresse: Werraweg\, 34225 Baunatal\n
LOCATION:Sporthalle Hertingshausen (11111): Werraweg\, 34225 Baunatal
CATEGORIES:Saison 2023/24
END:VEVENT
BEGIN:VEVENT
DTSTAMP:20260425T224657Z
DTSTART;TZID=Europe/Berlin:20240217T173000
DTEND;TZID=Europe/Berlin:20240217T190000
SUMMARY:F-Landesliga Nord HSG Baunatal vs TuSpo Waldau (102)
UID:12cf4b12-f139-40fc-849b-079e566d1726
STATUS:CONFIRMED
LAST-MODIFIED:20240219T191457Z
DESCRIPTION:Frauen Landesliga - Nord\nBegegnungs-Nr: 102\nHeim: HSG Baunatal\nGast: TuSpo Waldau\nHalle: Sporthalle Hertingshausen (11111)\nAdresse: Werraweg\, 34225 Baunatal\n
LOCATION:Sporthalle Hertingshausen (11111): Werraweg\, 34225 Baunatal
CATEGORIES:Saison 2023/24
END:VEVENT
BEGIN:VEVENT
DTSTAMP:20260425T224657Z
DTSTART;TZID=Europe/Berlin:20240224T173000
DTEND;TZID=Europe/Berlin:20240224T190000
SUMMARY:F-Landesliga Nord HSG Baunatal vs TSV Wollrode (108)
UID:d2f868de-8dab-4e5b-b779-619f3fd99506
STATUS:CONFIRMED
LAST-MODIFIED:20240226T133224Z
DESCRIPTION:Frauen Landesliga - Nord\nBegegnungs-Nr: 108\nHeim: HSG Baunatal\nGast: TSV Wollrode\nHalle: Sporthalle Hertingshausen (11111)\nAdresse: Werraweg\, 34225 Baunatal\n
LOCATION:Sporthalle Hertingshausen (11111): Werraweg\, 34225 Baunatal
CATEGORIES:Saison 2023/24
END:VEVENT
BEGIN:VEVENT
DTSTAMP:20260425T224657Z
DTSTART;TZID=Europe/Berlin:20240316T160000
DTEND;TZID=Europe/Berlin:20240316T173000
SUMMARY:F-Landesliga Nord HSG Baunatal vs TV Hersfeld (115)
UID:40181570-6c24-4612-ad4b-7b9542f6f81f
STATUS:CONFIRMED
LAST-MODIFIED:20240318T152350Z
DESCRIPTION:Frauen Landesliga - Nord\nBegegnungs-Nr: 115\nHeim: HSG Baunatal\nGast: TV Hersfeld\nHalle: Sporthalle Hertingshausen (11111)\nAdresse: Werraweg\, 34225 Baunatal\n
LOCATION:Sporthalle Hertingshausen (11111): Werraweg\, 34225 Baunatal
CATEGORIES:Saison 2023/24
END:VEVENT
BEGIN:VEVENT
DTSTAMP:20260425T224657Z
DTSTART;TZID=Europe/Berlin:20240413T173000
DTEND;TZID=Europe/Berlin:20240413T190000
SUMMARY:F-Landesliga Nord HSG Baunatal vs HSG Zwehren/Kassel (129)
UID:4ed050c1-1493-4cc6-8cff-19a0b41d43e4
STATUS:CONFIRMED
LAST-MODIFIED:20240415T090233Z
DESCRIPTION:Frauen Landesliga - Nord\nBegegnungs-Nr: 129\nHeim: HSG Baunatal\nGast: HSG Zwehren/Kassel\nHalle: Sporthalle Hertingshausen (11111)\nAdresse: Werraweg\, 34225 Baunatal\n
LOCATION:Sporthalle Hertingshausen (11111): Werraweg\, 34225 Baunatal
CATEGORIES:Saison 2023/24
END:VEVENT
BEGIN:VEVENT
DTSTAMP:20260425T224657Z
DTSTART;TZID=Europe/Berlin:20230909T170000
DTEND;TZID=Europe/Berlin:20230909T183000
SUMMARY:F-Landesliga Nord HSG Baunatal vs HSG Wesertal (3)
UID:0e0093f0-e685-46a6-8522-b57d3cd15679
STATUS:CONFIRMED
LAST-MODIFIED:20230910T082018Z
DESCRIPTION:Frauen Landesliga - Nord\nBegegnungs-Nr: 3\nHeim: HSG Baunatal\nGast: HSG Wesertal\nHalle: Sporthalle Hertingshausen (11111)\nAdresse: Werraweg\, 34225 Baunatal\n
LOCATION:Sporthalle Hertingshausen (11111): Werraweg\, 34225 Baunatal
CATEGORIES:Saison 2023/24
END:VEVENT
BEGIN:VEVENT
DTSTAMP:20260425T224657Z
DTSTART;TZID=Europe/Berlin:20230923T170000
DTEND;TZID=Europe/Berlin:20230923T183000
SUMMARY:F-Landesliga Nord HSG Baunatal vs FT Fulda (16)
UID:9439c085-4f12-4168-a8b0-77f12dece5de
STATUS:CONFIRMED
LAST-MODIFIED:20230925T091710Z
DESCRIPTION:Frauen Landesliga - Nord\nBegegnungs-Nr: 16\nHeim: HSG Baunatal\nGast: FT Fulda\nHalle: Sporthalle Hertingshausen (11111)\nAdresse: Werraweg\, 34225 Baunatal\n
LOCATION:Sporthalle Hertingshausen (11111): Werraweg\, 34225 Baunatal
CATEGORIES:Saison 2023/24
END:VEVENT
BEGIN:VEVENT
DTSTAMP:20260425T224657Z
DTSTART;TZID=Europe/Berlin:20231007T173000
DTEND;TZID=Europe/Berlin:20231007T190000
SUMMARY:F-Landesliga Nord HSG Baunatal vs TG Rotenburg (29)
UID:7af0b892-59bc-4da0-b873-fbec338d2849
STATUS:CONFIRMED
LAST-MODIFIED:20231009T161823Z
DESCRIPTION:Frauen Landesliga - Nord\nBegegnungs-Nr: 29\nHeim: HSG Baunatal\nGast: TG Rotenburg\nHalle: Sporthalle Hertingshausen (11111)\nAdresse: Werraweg\, 34225 Baunatal\n
LOCATION:Sporthalle Hertingshausen (11111): Werraweg\, 34225 Baunatal
CATEGORIES:Saison 2023/24
END:VEVENT
BEGIN:VEVENT
DTSTAMP:20260425T224657Z
DTSTART;TZID=Europe/Berlin:20231104T170000
DTEND;TZID=Europe/Berlin:20231104T183000
SUMMARY:F-Landesliga Nord HSG Baunatal vs SV Reichensachsen (48)
UID:6904696f-6c67-4698-9f2f-09b7fd40bf36
STATUS:CONFIRMED
LAST-MODIFIED:20231105T171006Z
DESCRIPTION:Frauen Landesliga - Nord\nBegegnungs-Nr: 48\nHeim: HSG Baunatal\nGast: SV Reichensachsen\nHalle: Sporthalle Hertingshausen (11111)\nAdresse: Werraweg\, 34225 Baunatal\n
LOCATION:Sporthalle Hertingshausen (11111): Werraweg\, 34225 Baunatal
CATEGORIES:Saison 2023/24
END:VEVENT
BEGIN:VEVENT
DTSTAMP:20260425T224657Z
DTSTART;TZID=Europe/Berlin:20231118T173000
DTEND;TZID=Europe/Berlin:20231118T190000
SUMMARY:F-Landesliga Nord HSG Baunatal vs HSG Großenlüder/Hainzell (56)
UID:cdf2ff21-0963-41b2-8e85-1590ddf6f90e
STATUS:CONFIRMED
LAST-MODIFIED:20231128T192027Z
DESCRIPTION:Frauen Landesliga - Nord\nBegegnungs-Nr: 56\nHeim: HSG Baunatal\nGast: HSG Großenlüder/Hainzell\nHalle: Sporthalle Hertingshausen (11111)\nAdresse: Werraweg\, 34225 Baunatal\n
LOCATION:Sporthalle Hertingshausen (11111): Werraweg\, 34225 Baunatal
CATEGORIES:Saison 2023/24
END:VEVENT
BEGIN:VEVENT
DTSTAMP:20260425T224657Z
DTSTART;TZID=Europe/Berlin:20231209T163000
DTEND;TZID=Europe/Berlin:20231209T180000
SUMMARY:F-Landesliga Nord HSG Baunatal vs SV G. Fritzlar II (76)
UID:6786e4a2-2f2b-4482-b8ec-38620f5b96fb
STATUS:CONFIRMED
LAST-MODIFIED:20231209T200930Z
DESCRIPTION:Frauen Landesliga - Nord\nBegegnungs-Nr: 76\nHeim: HSG Baunatal\nGast: SV G. Fritzlar II\nHalle: Sporthalle Hertingshausen (11111)\nAdresse: Werraweg\, 34225 Baunatal\n
LOCATION:Sporthalle Hertingshausen (11111): Werraweg\, 34225 Baunatal
CATEGORIES:Saison 2023/24
END:VEVENT
BEGIN:VEVENT
DTSTAMP:20260425T224657Z
DTSTART;TZID=Europe/Berlin:20240203T153000
DTEND;TZID=Europe/Berlin:20240203T170000
SUMMARY:F-Landesliga Nord TG Rotenburg vs HSG Baunatal (95)
UID:23cfec3a-6fb9-41bd-b12b-15ff48b58390
STATUS:CONFIRMED
LAST-MODIFIED:20240204T191511Z
DESCRIPTION:Frauen Landesliga - Nord\nBegegnungs-Nr: 95\nHeim: TG Rotenburg\nGast: HSG Baunatal\nHalle: Großsporthalle Albert-Schweitzer-Schule (12133)\nAdresse: Breitinger Kirchweg 16\, 36199 Rotenburg\n
LOCATION:Großsporthalle Albert-Schweitzer-Schule (12133): Breitinger Kirchweg 16\, 36199 Rotenburg
CATEGORIES:Saison 2023/24
END:VEVENT
BEGIN:VEVENT
DTSTAMP:20260425T224657Z
DTSTART;TZID=Europe/Berlin:20240310T163000
DTEND;TZID=Europe/Berlin:20240310T180000
SUMMARY:F-Landesliga Nord SV Reichensachsen vs HSG Baunatal (114)
UID:5d205f35-ceb6-46a5-a73d-266f9d1033ff
STATUS:CONFIRMED
LAST-MODIFIED:20240311T104258Z
DESCRIPTION:Frauen Landesliga - Nord\nBegegnungs-Nr: 114\nHeim: SV Reichensachsen\nGast: HSG Baunatal\nHalle: Großsporthalle - Kleeblattschule Wehretal-Reichensachsen (12139)\nAdresse: Friedrich-Ebert-Straße 16\, 37287 Wehretal-Reichensachsen\n
LOCATION:Großsporthalle - Kleeblattschule Wehretal-Reichensachsen (12139): Friedrich-Ebert-Straße 16\, 37287 Wehretal-Reichensachsen
CATEGORIES:Saison 2023/24
END:VEVENT
BEGIN:VEVENT
DTSTAMP:20260425T224657Z
DTSTART;TZID=Europe/Berlin:20240323T163000
DTEND;TZID=Europe/Berlin:20240323T180000
SUMMARY:F-Landesliga Nord HSG Großenlüder/Hainzell vs HSG Baunatal (122)
UID:395a7e79-fc80-4fcc-9639-04c3bb94e5ba
STATUS:CONFIRMED
LAST-MODIFIED:20240326T170807Z
DESCRIPTION:Frauen Landesliga - Nord\nBegegnungs-Nr: 122\nHeim: HSG Großenlüder/Hainzell\nGast: HSG Baunatal\nHalle: Lüdertalsporthalle (13108)\nAdresse: Dr.-Stieler-Straße\, 36137 Großenlüder\n
LOCATION:Lüdertalsporthalle (13108): Dr.-Stieler-Straße\, 36137 Großenlüder
CATEGORIES:Saison 2023/24
END:VEVENT
BEGIN:VEVENT
DTSTAMP:20260425T224657Z
DTSTART;TZID=Europe/Berlin:20230917T173000
DTEND;TZID=Europe/Berlin:20230917T190000
SUMMARY:F-Landesliga Nord SV G. Fritzlar II vs HSG Baunatal (10)
UID:6af63797-e517-429c-a5c9-1c9567aee30d
STATUS:CONFIRMED
LAST-MODIFIED:20230918T153201Z
DESCRIPTION:Frauen Landesliga - Nord\nBegegnungs-Nr: 10\nHeim: SV G. Fritzlar II\nGast: HSG Baunatal\nHalle: Kreissporthalle König-Heinrich-Schule Fritzlar (12113)\nAdresse: Schladenweg 43\, 34560 Fritzlar\n
LOCATION:Kreissporthalle König-Heinrich-Schule Fritzlar (12113): Schladenweg 43\, 34560 Fritzlar
CATEGORIES:Saison 2023/24
END:VEVENT
BEGIN:VEVENT
DTSTAMP:20260425T224657Z
DTSTART;TZID=Europe/Berlin:20231019T200000
DTEND;TZID=Europe/Berlin:20231019T213000
SUMMARY:F-Landesliga Nord TSG Dittershausen vs HSG Baunatal (23)
UID:a3507b48-cc27-477b-b292-3cccbc2bc5ec
STATUS:CONFIRMED
LAST-MODIFIED:20231023T203323Z
DESCRIPTION:Frauen Landesliga - Nord\nBegegnungs-Nr: 23\nHeim: TSG Dittershausen\nGast: HSG Baunatal\nHalle: Sporthalle Dörnhagen (11117)\nAdresse: Glockenhofsweg 1\, 34277 Fuldabrück\n
LOCATION:Sporthalle Dörnhagen (11117): Glockenhofsweg 1\, 34277 Fuldabrück
CATEGORIES:Saison 2023/24
END:VEVENT
BEGIN:VEVENT
DTSTAMP:20260425T224657Z
DTSTART;TZID=Europe/Berlin:20231014T160000
DTEND;TZID=Europe/Berlin:20231014T173000
SUMMARY:F-Landesliga Nord TuSpo Waldau vs HSG Baunatal (36)
UID:c944cf64-d9e4-40bc-8547-a54940f3367d
STATUS:CONFIRMED
LAST-MODIFIED:20231016T071620Z
DESCRIPTION:Frauen Landesliga - Nord\nBegegnungs-Nr: 36\nHeim: TuSpo Waldau\nGast: HSG Baunatal\nHalle: Sporthalle Waldau (11137)\nAdresse: Stegerwaldstraße 45\, 34123 Kassel-Waldau\n
LOCATION:Sporthalle Waldau (11137): Stegerwaldstraße 45\, 34123 Kassel-Waldau
CATEGORIES:Saison 2023/24
END:VEVENT
BEGIN:VEVENT
DTSTAMP:20260425T224657Z
DTSTART;TZID=Europe/Berlin:20231022T170000
DTEND;TZID=Europe/Berlin:20231022T183000
SUMMARY:F-Landesliga Nord TSV Wollrode vs HSG Baunatal (42)
UID:eee2127f-a6cc-4b78-ad3c-f29fa57d249b
STATUS:CONFIRMED
LAST-MODIFIED:20231023T202839Z
DESCRIPTION:Frauen Landesliga - Nord\nBegegnungs-Nr: 42\nHeim: TSV Wollrode\nGast: HSG Baunatal\nHalle: Kreissporthalle Guxhagen (12117)\nAdresse: Schöne Aussicht 13\, 34302 Guxhagen\n
LOCATION:Kreissporthalle Guxhagen (12117): Schöne Aussicht 13\, 34302 Guxhagen
CATEGORIES:Saison 2023/24
END:VEVENT
BEGIN:VEVENT
DTSTAMP:20260425T224657Z
DTSTART;TZID=Europe/Berlin:20231111T170000
DTEND;TZID=Europe/Berlin:20231111T183000
SUMMARY:F-Landesliga Nord TV Hersfeld vs HSG Baunatal (49)
UID:ed42c732-52fd-491f-b46f-6627cb8ff2c7
STATUS:CONFIRMED
LAST-MODIFIED:20231112T015553Z
DESCRIPTION:Frauen Landesliga - Nord\nBegegnungs-Nr: 49\nHeim: TV Hersfeld\nGast: HSG Baunatal\nHalle: Geistalhalle (12102)\nAdresse: Homberger Straße 38 a\, 36251 Bad Hersfeld\n
LOCATION:Geistalhalle (12102): Homberger Straße 38 a\, 36251 Bad Hersfeld
CATEGORIES:Saison 2023/24
END:VEVENT
BEGIN:VEVENT
DTSTAMP:20260425T224657Z
DTSTART;TZID=Europe/Berlin:20231125T180000
DTEND;TZID=Europe/Berlin:20231125T193000
SUMMARY:F-Landesliga Nord HSG Zwehren/Kassel vs HSG Baunatal (63)
UID:6ad12790-8731-430a-b1bd-1dbd714b529b
STATUS:CONFIRMED
LAST-MODIFIED:20231128T192323Z
DESCRIPTION:Frauen Landesliga - Nord\nBegegnungs-Nr: 63\nHeim: HSG Zwehren/Kassel\nGast: HSG Baunatal\nHalle: Sporthalle Oberzwehren (11135)\nAdresse: Mattenbergstraße 52 a\, 34132 Kassel-Oberzwehren\n
LOCATION:Sporthalle Oberzwehren (11135): Mattenbergstraße 52 a\, 34132 Kassel-Oberzwehren
CATEGORIES:Saison 2023/24
END:VEVENT
BEGIN:VEVENT
DTSTAMP:20260425T224657Z
DTSTART;TZID=Europe/Berlin:20231203T170000
DTEND;TZID=Europe/Berlin:20231203T183000
SUMMARY:F-Landesliga Nord HSG Wesertal vs HSG Baunatal (69)
UID:164e43d9-1cdb-421e-a905-8a0c493e7289
STATUS:CONFIRMED
LAST-MODIFIED:20231204T172422Z
DESCRIPTION:Frauen Landesliga - Nord\nBegegnungs-Nr: 69\nHeim: HSG Wesertal\nGast: HSG Baunatal\nHalle: Wesertal Sporthalle Oedelsheim (11147)\nAdresse: Am Hallenbad 5\, 34399 Wesertal-Oedelsheim\n
LOCATION:Wesertal Sporthalle Oedelsheim (11147): Am Hallenbad 5\, 34399 Wesertal-Oedelsheim
CATEGORIES:Saison 2023/24
END:VEVENT
BEGIN:VEVENT
DTSTAMP:20260425T224657Z
DTSTART;TZID=Europe/Berlin:20240121T170000
DTEND;TZID=Europe/Berlin:20240121T183000
SUMMARY:F-Landesliga Nord FT Fulda vs HSG Baunatal (82)
UID:ef9226ae-ea09-4f8d-acc7-7b4aa36d2fab
STATUS:CONFIRMED
LAST-MODIFIED:20240122T100555Z
DESCRIPTION:Frauen Landesliga - Nord\nBegegnungs-Nr: 82\nHeim: FT Fulda\nGast: HSG Baunatal\nHalle: Heinrich-Gellings-Halle (13106)\nAdresse: Willi-Glotzbach-Weg 1\, 36037 Fulda\n
LOCATION:Heinrich-Gellings-Halle (13106): Willi-Glotzbach-Weg 1\, 36037 Fulda
CATEGORIES:Saison 2023/24
END:VEVENT
END:VCALENDAR
