BEGIN:VCALENDAR
PRODID:-//nuDatenautomaten//framework iCal4j //DE
VERSION:2.0
CALSCALE:GREGORIAN
BEGIN:VTIMEZONE
TZID:Europe/Berlin
LAST-MODIFIED:20260306T231828Z
TZURL:https://www.tzurl.org/zoneinfo/Europe/Berlin
X-LIC-LOCATION:Europe/Berlin
X-PROLEPTIC-TZNAME:LMT
BEGIN:STANDARD
TZNAME:CET
TZOFFSETFROM:+005328
TZOFFSETTO:+0100
DTSTART:18930401T000000
END:STANDARD
BEGIN:DAYLIGHT
TZNAME:CEST
TZOFFSETFROM:+0100
TZOFFSETTO:+0200
DTSTART:19160430T230000
RDATE:19400401T020000
RDATE:19430329T020000
RDATE:19460414T020000
RDATE:19470406T030000
RDATE:19480418T020000
RDATE:19490410T020000
RDATE:19800406T020000
END:DAYLIGHT
BEGIN:STANDARD
TZNAME:CET
TZOFFSETFROM:+0200
TZOFFSETTO:+0100
DTSTART:19161001T010000
RDATE:19421102T030000
RDATE:19431004T030000
RDATE:19441002T030000
RDATE:19451118T030000
RDATE:19461007T030000
END:STANDARD
BEGIN:DAYLIGHT
TZNAME:CEST
TZOFFSETFROM:+0100
TZOFFSETTO:+0200
DTSTART:19170416T020000
RRULE:FREQ=YEARLY;UNTIL=19180415T010000Z;BYMONTH=4;BYDAY=3MO
END:DAYLIGHT
BEGIN:STANDARD
TZNAME:CET
TZOFFSETFROM:+0200
TZOFFSETTO:+0100
DTSTART:19170917T030000
RRULE:FREQ=YEARLY;UNTIL=19180916T010000Z;BYMONTH=9;BYDAY=3MO
END:STANDARD
BEGIN:DAYLIGHT
TZNAME:CEST
TZOFFSETFROM:+0100
TZOFFSETTO:+0200
DTSTART:19440403T020000
RRULE:FREQ=YEARLY;UNTIL=19450402T010000Z;BYMONTH=4;BYDAY=1MO
END:DAYLIGHT
BEGIN:DAYLIGHT
TZNAME:CEMT
TZOFFSETFROM:+0200
TZOFFSETTO:+0300
DTSTART:19450524T020000
RDATE:19470511T030000
END:DAYLIGHT
BEGIN:DAYLIGHT
TZNAME:CEST
TZOFFSETFROM:+0300
TZOFFSETTO:+0200
DTSTART:19450924T030000
RDATE:19470629T030000
END:DAYLIGHT
BEGIN:STANDARD
TZNAME:CET
TZOFFSETFROM:+0100
TZOFFSETTO:+0100
DTSTART:19460101T000000
RDATE:19800101T000000
END:STANDARD
BEGIN:STANDARD
TZNAME:CET
TZOFFSETFROM:+0200
TZOFFSETTO:+0100
DTSTART:19471005T030000
RRULE:FREQ=YEARLY;UNTIL=19491002T010000Z;BYMONTH=10;BYDAY=1SU
END:STANDARD
BEGIN:STANDARD
TZNAME:CET
TZOFFSETFROM:+0200
TZOFFSETTO:+0100
DTSTART:19800928T030000
RRULE:FREQ=YEARLY;UNTIL=19950924T010000Z;BYMONTH=9;BYDAY=-1SU
END:STANDARD
BEGIN:DAYLIGHT
TZNAME:CEST
TZOFFSETFROM:+0100
TZOFFSETTO:+0200
DTSTART:19810329T020000
RRULE:FREQ=YEARLY;BYMONTH=3;BYDAY=-1SU
END:DAYLIGHT
BEGIN:STANDARD
TZNAME:CET
TZOFFSETFROM:+0200
TZOFFSETTO:+0100
DTSTART:19961027T030000
RRULE:FREQ=YEARLY;BYMONTH=10;BYDAY=-1SU
END:STANDARD
END:VTIMEZONE
BEGIN:VEVENT
DTSTAMP:20260426T025246Z
DTSTART;TZID=Europe/Berlin:20250315T160000
DTEND;TZID=Europe/Berlin:20250315T173000
SUMMARY:F-2.Bezirksklasse FSG Gettenau/Florstadt II vs HSG Wettertal III (80)
UID:431f8f5e-c2f5-4980-bc83-01cd8fb98059
STATUS:CONFIRMED
LAST-MODIFIED:20250317T072122Z
DESCRIPTION:Frauen 2.Bezirksklasse\nBegegnungs-Nr: 80\nHeim: FSG Gettenau/Florstadt II\nGast: HSG Wettertal III\nHalle: Sporthalle Florstadt (14125)\nAdresse: Freiherr-vom-Stein-Straße 4\, 61197 Florstadt\n
LOCATION:Sporthalle Florstadt (14125): Freiherr-vom-Stein-Straße 4\, 61197 Florstadt
CATEGORIES:Saison 2024/25
END:VEVENT
BEGIN:VEVENT
DTSTAMP:20260426T025246Z
DTSTART;TZID=Europe/Berlin:20241130T160000
DTEND;TZID=Europe/Berlin:20241130T173000
SUMMARY:F-2.Bezirksklasse FSG Gettenau/Florstadt II vs VfB Driedorf II (34)
UID:385ed6ea-a0ca-43a7-9571-88ac7e5ec58b
STATUS:CONFIRMED
LAST-MODIFIED:20241202T073059Z
DESCRIPTION:Frauen 2.Bezirksklasse\nBegegnungs-Nr: 34\nHeim: FSG Gettenau/Florstadt II\nGast: VfB Driedorf II\nHalle: Kurt-Moosdorf-Halle Echzell (14121)\nAdresse: Schulstraße\, 61209 Echzell\n
LOCATION:Kurt-Moosdorf-Halle Echzell (14121): Schulstraße\, 61209 Echzell
CATEGORIES:Saison 2024/25
END:VEVENT
BEGIN:VEVENT
DTSTAMP:20260426T025246Z
DTSTART;TZID=Europe/Berlin:20240922T140000
DTEND;TZID=Europe/Berlin:20240922T153000
SUMMARY:F-2.Bezirksklasse FSG Gettenau/Florstadt II vs HSG Lumdatal III (4)
UID:d272e338-bae4-4d6f-8772-0beec2b329e8
STATUS:CONFIRMED
LAST-MODIFIED:20240923T065415Z
DESCRIPTION:Frauen 2.Bezirksklasse\nBegegnungs-Nr: 4\nHeim: FSG Gettenau/Florstadt II\nGast: HSG Lumdatal III\nHalle: Sporthalle Florstadt (14125)\nAdresse: Freiherr-vom-Stein-Straße 4\, 61197 Florstadt\n
LOCATION:Sporthalle Florstadt (14125): Freiherr-vom-Stein-Straße 4\, 61197 Florstadt
CATEGORIES:Saison 2024/25
END:VEVENT
BEGIN:VEVENT
DTSTAMP:20260426T025246Z
DTSTART;TZID=Europe/Berlin:20241102T160000
DTEND;TZID=Europe/Berlin:20241102T173000
SUMMARY:F-2.Bezirksklasse FSG Gettenau/Florstadt II vs VfB Driedorf (19)
UID:bf41e26c-543a-481c-b1df-f6cb5d6afb5b
STATUS:CONFIRMED
LAST-MODIFIED:20241104T070318Z
DESCRIPTION:Frauen 2.Bezirksklasse\nBegegnungs-Nr: 19\nHeim: FSG Gettenau/Florstadt II\nGast: VfB Driedorf\nHalle: Kurt-Moosdorf-Halle Echzell (14121)\nAdresse: Schulstraße\, 61209 Echzell\n
LOCATION:Kurt-Moosdorf-Halle Echzell (14121): Schulstraße\, 61209 Echzell
CATEGORIES:Saison 2024/25
END:VEVENT
BEGIN:VEVENT
DTSTAMP:20260426T025246Z
DTSTART;TZID=Europe/Berlin:20250223T140000
DTEND;TZID=Europe/Berlin:20250223T153000
SUMMARY:F-2.Bezirksklasse FSG Gettenau/Florstadt II vs HSG Dilltal II (64)
UID:726d4812-3f84-4d15-a9ad-17c8f5d086d8
STATUS:CONFIRMED
LAST-MODIFIED:20250224T100236Z
DESCRIPTION:Frauen 2.Bezirksklasse\nBegegnungs-Nr: 64\nHeim: FSG Gettenau/Florstadt II\nGast: HSG Dilltal II\nHalle: Kurt-Moosdorf-Halle Echzell (14121)\nAdresse: Schulstraße\, 61209 Echzell\n
LOCATION:Kurt-Moosdorf-Halle Echzell (14121): Schulstraße\, 61209 Echzell
CATEGORIES:Saison 2024/25
END:VEVENT
BEGIN:VEVENT
DTSTAMP:20260426T025246Z
DTSTART;TZID=Europe/Berlin:20250202T140000
DTEND;TZID=Europe/Berlin:20250202T153000
SUMMARY:F-2.Bezirksklasse FSG Gettenau/Florstadt II vs TSV Eintr. Stadtallendorf (56)
UID:1fa4cc93-fb43-469b-988b-e3cda81a0f42
STATUS:CONFIRMED
LAST-MODIFIED:20250203T123028Z
DESCRIPTION:Frauen 2.Bezirksklasse\nBegegnungs-Nr: 56\nHeim: FSG Gettenau/Florstadt II\nGast: TSV Eintr. Stadtallendorf\nHalle: Kurt-Moosdorf-Halle Echzell (14121)\nAdresse: Schulstraße\, 61209 Echzell\n
LOCATION:Kurt-Moosdorf-Halle Echzell (14121): Schulstraße\, 61209 Echzell
CATEGORIES:Saison 2024/25
END:VEVENT
BEGIN:VEVENT
DTSTAMP:20260426T025246Z
DTSTART;TZID=Europe/Berlin:20250329T173000
DTEND;TZID=Europe/Berlin:20250329T190000
SUMMARY:F-2.Bezirksklasse SG Rechtenbach vs FSG Gettenau/Florstadt II (88)
UID:b01d5ecf-f1c9-41ef-a1fd-62ec102e7acd
STATUS:CONFIRMED
LAST-MODIFIED:20250331T080905Z
DESCRIPTION:Frauen 2.Bezirksklasse\nBegegnungs-Nr: 88\nHeim: SG Rechtenbach\nGast: FSG Gettenau/Florstadt II\nHalle: Sporthalle Rechtenbach (14142)\nAdresse: Weidenhäuser Straße 49\, 35625 Hüttenberg-Rechtenbach\n
LOCATION:Sporthalle Rechtenbach (14142): Weidenhäuser Straße 49\, 35625 Hüttenberg-Rechtenbach
CATEGORIES:Saison 2024/25
END:VEVENT
BEGIN:VEVENT
DTSTAMP:20260426T025246Z
DTSTART;TZID=Europe/Berlin:20250118T160000
DTEND;TZID=Europe/Berlin:20250118T173000
SUMMARY:F-2.Bezirksklasse HSG Hungen/Lich III vs FSG Gettenau/Florstadt II (49)
UID:97d3d963-6777-4f19-8e16-95d292070154
STATUS:CONFIRMED
LAST-MODIFIED:20250120T172939Z
DESCRIPTION:Frauen 2.Bezirksklasse\nBegegnungs-Nr: 49\nHeim: HSG Hungen/Lich III\nGast: FSG Gettenau/Florstadt II\nHalle: Dietrich-Bonhoeffer-Sporthalle (14150)\nAdresse: Kirchhofsgasse 24\, 35423 Lich\n
LOCATION:Dietrich-Bonhoeffer-Sporthalle (14150): Kirchhofsgasse 24\, 35423 Lich
CATEGORIES:Saison 2024/25
END:VEVENT
BEGIN:VEVENT
DTSTAMP:20260426T025246Z
DTSTART;TZID=Europe/Berlin:20241005T183000
DTEND;TZID=Europe/Berlin:20241005T200000
SUMMARY:F-2.Bezirksklasse HSG Grünberg/Mücke II vs FSG Gettenau/Florstadt II (12)
UID:3976b11b-4779-4438-b71e-2599c73bbd60
STATUS:CONFIRMED
LAST-MODIFIED:20241006T095901Z
DESCRIPTION:Frauen 2.Bezirksklasse\nBegegnungs-Nr: 12\nHeim: HSG Grünberg/Mücke II\nGast: FSG Gettenau/Florstadt II\nHalle: Theodor-Koch-Schule Grünberg (14134)\nAdresse: Struppiusstraße 8\, 35305 Grünberg\n
LOCATION:Theodor-Koch-Schule Grünberg (14134): Struppiusstraße 8\, 35305 Grünberg
CATEGORIES:Saison 2024/25
END:VEVENT
BEGIN:VEVENT
DTSTAMP:20260426T025246Z
DTSTART;TZID=Europe/Berlin:20250308T164500
DTEND;TZID=Europe/Berlin:20250308T181500
SUMMARY:F-2.Bezirksklasse HSG Kleenh.-Langg. III vs FSG Gettenau/Florstadt II (72)
UID:b57682e9-a521-4c85-be2c-8c8b7e8aa7d0
STATUS:CONFIRMED
LAST-MODIFIED:20250310T073236Z
DESCRIPTION:Frauen 2.Bezirksklasse\nBegegnungs-Nr: 72\nHeim: HSG Kleenh.-Langg. III\nGast: FSG Gettenau/Florstadt II\nHalle: Weidig-Halle Oberkleen (14148)\nAdresse: Pfingstweide\, 35428 Langgöns\n
LOCATION:Weidig-Halle Oberkleen (14148): Pfingstweide\, 35428 Langgöns
CATEGORIES:Saison 2024/25
END:VEVENT
BEGIN:VEVENT
DTSTAMP:20260426T025246Z
DTSTART;TZID=Europe/Berlin:20241214T173000
DTEND;TZID=Europe/Berlin:20241214T190000
SUMMARY:F-2.Bezirksklasse HSG Linden II vs FSG Gettenau/Florstadt II (42)
UID:1d999591-bd47-409f-84fd-c9346dc19452
STATUS:CONFIRMED
LAST-MODIFIED:20241216T084923Z
DESCRIPTION:Frauen 2.Bezirksklasse\nBegegnungs-Nr: 42\nHeim: HSG Linden II\nGast: FSG Gettenau/Florstadt II\nHalle: Sph. Br.-Grimm-Schule Kl.-Linden (14185)\nAdresse: Lützellindener Straße 67\, 35398 Gießen-Klein-Linden\n
LOCATION:Sph. Br.-Grimm-Schule Kl.-Linden (14185): Lützellindener Straße 67\, 35398 Gießen-Klein-Linden
CATEGORIES:Saison 2024/25
END:VEVENT
BEGIN:VEVENT
DTSTAMP:20260426T025246Z
DTSTART;TZID=Europe/Berlin:20241116T201500
DTEND;TZID=Europe/Berlin:20241116T214500
SUMMARY:F-2.Bezirksklasse HSG Marburg/Cappel III vs FSG Gettenau/Florstadt II (27)
UID:81c1dfb4-8d5e-4f83-8405-6558ea60a555
STATUS:CONFIRMED
LAST-MODIFIED:20241118T074036Z
DESCRIPTION:Frauen 2.Bezirksklasse\nBegegnungs-Nr: 27\nHeim: HSG Marburg/Cappel III\nGast: FSG Gettenau/Florstadt II\nHalle: Conrad-Hahn-Sporthalle (14159)\nAdresse: Beethovenstraße 1\, 35043 Marburg-Cappel\n
LOCATION:Conrad-Hahn-Sporthalle (14159): Beethovenstraße 1\, 35043 Marburg-Cappel
CATEGORIES:Saison 2024/25
END:VEVENT
END:VCALENDAR
