BEGIN:VCALENDAR
PRODID:-//nuDatenautomaten//framework iCal4j //DE
VERSION:2.0
CALSCALE:GREGORIAN
BEGIN:VTIMEZONE
TZID:Europe/Berlin
LAST-MODIFIED:20260306T231828Z
TZURL:https://www.tzurl.org/zoneinfo/Europe/Berlin
X-LIC-LOCATION:Europe/Berlin
X-PROLEPTIC-TZNAME:LMT
BEGIN:STANDARD
TZNAME:CET
TZOFFSETFROM:+005328
TZOFFSETTO:+0100
DTSTART:18930401T000000
END:STANDARD
BEGIN:DAYLIGHT
TZNAME:CEST
TZOFFSETFROM:+0100
TZOFFSETTO:+0200
DTSTART:19160430T230000
RDATE:19400401T020000
RDATE:19430329T020000
RDATE:19460414T020000
RDATE:19470406T030000
RDATE:19480418T020000
RDATE:19490410T020000
RDATE:19800406T020000
END:DAYLIGHT
BEGIN:STANDARD
TZNAME:CET
TZOFFSETFROM:+0200
TZOFFSETTO:+0100
DTSTART:19161001T010000
RDATE:19421102T030000
RDATE:19431004T030000
RDATE:19441002T030000
RDATE:19451118T030000
RDATE:19461007T030000
END:STANDARD
BEGIN:DAYLIGHT
TZNAME:CEST
TZOFFSETFROM:+0100
TZOFFSETTO:+0200
DTSTART:19170416T020000
RRULE:FREQ=YEARLY;UNTIL=19180415T010000Z;BYMONTH=4;BYDAY=3MO
END:DAYLIGHT
BEGIN:STANDARD
TZNAME:CET
TZOFFSETFROM:+0200
TZOFFSETTO:+0100
DTSTART:19170917T030000
RRULE:FREQ=YEARLY;UNTIL=19180916T010000Z;BYMONTH=9;BYDAY=3MO
END:STANDARD
BEGIN:DAYLIGHT
TZNAME:CEST
TZOFFSETFROM:+0100
TZOFFSETTO:+0200
DTSTART:19440403T020000
RRULE:FREQ=YEARLY;UNTIL=19450402T010000Z;BYMONTH=4;BYDAY=1MO
END:DAYLIGHT
BEGIN:DAYLIGHT
TZNAME:CEMT
TZOFFSETFROM:+0200
TZOFFSETTO:+0300
DTSTART:19450524T020000
RDATE:19470511T030000
END:DAYLIGHT
BEGIN:DAYLIGHT
TZNAME:CEST
TZOFFSETFROM:+0300
TZOFFSETTO:+0200
DTSTART:19450924T030000
RDATE:19470629T030000
END:DAYLIGHT
BEGIN:STANDARD
TZNAME:CET
TZOFFSETFROM:+0100
TZOFFSETTO:+0100
DTSTART:19460101T000000
RDATE:19800101T000000
END:STANDARD
BEGIN:STANDARD
TZNAME:CET
TZOFFSETFROM:+0200
TZOFFSETTO:+0100
DTSTART:19471005T030000
RRULE:FREQ=YEARLY;UNTIL=19491002T010000Z;BYMONTH=10;BYDAY=1SU
END:STANDARD
BEGIN:STANDARD
TZNAME:CET
TZOFFSETFROM:+0200
TZOFFSETTO:+0100
DTSTART:19800928T030000
RRULE:FREQ=YEARLY;UNTIL=19950924T010000Z;BYMONTH=9;BYDAY=-1SU
END:STANDARD
BEGIN:DAYLIGHT
TZNAME:CEST
TZOFFSETFROM:+0100
TZOFFSETTO:+0200
DTSTART:19810329T020000
RRULE:FREQ=YEARLY;BYMONTH=3;BYDAY=-1SU
END:DAYLIGHT
BEGIN:STANDARD
TZNAME:CET
TZOFFSETFROM:+0200
TZOFFSETTO:+0100
DTSTART:19961027T030000
RRULE:FREQ=YEARLY;BYMONTH=10;BYDAY=-1SU
END:STANDARD
END:VTIMEZONE
BEGIN:VEVENT
DTSTAMP:20260425T182907Z
DTSTART;TZID=Europe/Berlin:20250928T103000
DTEND;TZID=Europe/Berlin:20250928T113000
SUMMARY:MJE-Spielrunde Ost SG Wehrh./Obernh. II vs Eintr. Frankfurt II (12)
UID:0af01314-f3cc-4ea6-a477-59e52398fdb0
STATUS:CONFIRMED
LAST-MODIFIED:20250930T110034Z
DESCRIPTION:MJE-Spielrunde Ost\nBegegnungs-Nr: 12\nHeim: SG Wehrh./Obernh. II\nGast: Eintr. Frankfurt II\nHalle: Limesschule (16543)\nAdresse: Schulstraße 7\, 61273 Wehrheim\n
LOCATION:Limesschule (16543): Schulstraße 7\, 61273 Wehrheim
CATEGORIES:Saison 2025/26
END:VEVENT
BEGIN:VEVENT
DTSTAMP:20260425T182907Z
DTSTART;TZID=Europe/Berlin:20250921T100000
DTEND;TZID=Europe/Berlin:20250921T110000
SUMMARY:MJE-Spielrunde Ost SG Wehrh./Obernh. II vs TSG Oberursel II (6)
UID:5c2e3539-ce3b-4581-b809-3c825277e976
STATUS:CONFIRMED
LAST-MODIFIED:20250922T113155Z
DESCRIPTION:MJE-Spielrunde Ost\nBegegnungs-Nr: 6\nHeim: SG Wehrh./Obernh. II\nGast: TSG Oberursel II\nHalle: Limesschule (16543)\nAdresse: Schulstraße 7\, 61273 Wehrheim\n
LOCATION:Limesschule (16543): Schulstraße 7\, 61273 Wehrheim
CATEGORIES:Saison 2025/26
END:VEVENT
BEGIN:VEVENT
DTSTAMP:20260425T182907Z
DTSTART;TZID=Europe/Berlin:20260315T103000
DTEND;TZID=Europe/Berlin:20260315T113000
SUMMARY:MJE-Spielrunde Ost SG Wehrh./Obernh. II vs TV Petterweil II (67)
UID:2e42e87b-a2ef-46db-b33c-5c644729e916
STATUS:CONFIRMED
LAST-MODIFIED:20260316T112321Z
DESCRIPTION:MJE-Spielrunde Ost\nBegegnungs-Nr: 67\nHeim: SG Wehrh./Obernh. II\nGast: TV Petterweil II\nHalle: Limesschule (16543)\nAdresse: Schulstraße 7\, 61273 Wehrheim\n
LOCATION:Limesschule (16543): Schulstraße 7\, 61273 Wehrheim
CATEGORIES:Saison 2025/26
END:VEVENT
BEGIN:VEVENT
DTSTAMP:20260425T182907Z
DTSTART;TZID=Europe/Berlin:20260222T100000
DTEND;TZID=Europe/Berlin:20260222T110000
SUMMARY:MJE-Spielrunde Ost SG Wehrh./Obernh. II vs JSG Eschbach II (58)
UID:0bf4e53e-560c-40a0-a17a-566eef51ea23
STATUS:CONFIRMED
LAST-MODIFIED:20260223T120222Z
DESCRIPTION:MJE-Spielrunde Ost\nBegegnungs-Nr: 58\nHeim: SG Wehrh./Obernh. II\nGast: JSG Eschbach II\nHalle: Limesschule (16543)\nAdresse: Schulstraße 7\, 61273 Wehrheim\n
LOCATION:Limesschule (16543): Schulstraße 7\, 61273 Wehrheim
CATEGORIES:Saison 2025/26
END:VEVENT
BEGIN:VEVENT
DTSTAMP:20260425T182907Z
DTSTART;TZID=Europe/Berlin:20260131T090000
DTEND;TZID=Europe/Berlin:20260131T100000
SUMMARY:MJE-Spielrunde Ost SG Wehrh./Obernh. II vs SV Seulberg (49)
UID:a11cd112-d36a-4da7-ac17-aa79a782e48f
STATUS:CONFIRMED
LAST-MODIFIED:20260202T114418Z
DESCRIPTION:MJE-Spielrunde Ost\nBegegnungs-Nr: 49\nHeim: SG Wehrh./Obernh. II\nGast: SV Seulberg\nHalle: Limesschule (16543)\nAdresse: Schulstraße 7\, 61273 Wehrheim\n
LOCATION:Limesschule (16543): Schulstraße 7\, 61273 Wehrheim
CATEGORIES:Saison 2025/26
END:VEVENT
BEGIN:VEVENT
DTSTAMP:20260425T182907Z
DTSTART;TZID=Europe/Berlin:20251122T103000
DTEND;TZID=Europe/Berlin:20251122T113000
SUMMARY:MJE-Spielrunde Ost SG Wehrh./Obernh. II vs SG Anspach (25)
UID:85643e67-2b52-4211-be70-1b5f4f9927eb
STATUS:CONFIRMED
LAST-MODIFIED:20251123T124134Z
DESCRIPTION:MJE-Spielrunde Ost\nBegegnungs-Nr: 25\nHeim: SG Wehrh./Obernh. II\nGast: SG Anspach\nHalle: Limesschule (16543)\nAdresse: Schulstraße 7\, 61273 Wehrheim\n
LOCATION:Limesschule (16543): Schulstraße 7\, 61273 Wehrheim
CATEGORIES:Saison 2025/26
END:VEVENT
BEGIN:VEVENT
DTSTAMP:20260425T182907Z
DTSTART;TZID=Europe/Berlin:20251109T103000
DTEND;TZID=Europe/Berlin:20251109T113000
SUMMARY:MJE-Spielrunde Ost SG Wehrh./Obernh. II vs HSG Steinb./Kronb./Glash. (20)
UID:421dc02e-a8a5-4a96-ad26-d1981f1416ab
STATUS:CONFIRMED
LAST-MODIFIED:20251109T161502Z
DESCRIPTION:MJE-Spielrunde Ost\nBegegnungs-Nr: 20\nHeim: SG Wehrh./Obernh. II\nGast: HSG Steinb./Kronb./Glash.\nHalle: Limesschule (16543)\nAdresse: Schulstraße 7\, 61273 Wehrheim\n
LOCATION:Limesschule (16543): Schulstraße 7\, 61273 Wehrheim
CATEGORIES:Saison 2025/26
END:VEVENT
BEGIN:VEVENT
DTSTAMP:20260425T182907Z
DTSTART;TZID=Europe/Berlin:20251025T124000
DTEND;TZID=Europe/Berlin:20251025T134000
SUMMARY:MJE-Spielrunde Ost SV Seulberg vs SG Wehrh./Obernh. II (14)
UID:78ceb89d-8b5a-4727-b532-41ad5623af64
STATUS:CONFIRMED
LAST-MODIFIED:20251027T113905Z
DESCRIPTION:MJE-Spielrunde Ost\nBegegnungs-Nr: 14\nHeim: SV Seulberg\nGast: SG Wehrh./Obernh. II\nHalle: Wilfried-Fey-Halle (16529)\nAdresse: Landwehrstraße 5\, 61381 Friedrichsdorf\n
LOCATION:Wilfried-Fey-Halle (16529): Landwehrstraße 5\, 61381 Friedrichsdorf
CATEGORIES:Saison 2025/26
END:VEVENT
BEGIN:VEVENT
DTSTAMP:20260425T182907Z
DTSTART;TZID=Europe/Berlin:20260307T112500
DTEND;TZID=Europe/Berlin:20260307T122500
SUMMARY:MJE-Spielrunde Ost SG Anspach vs SG Wehrh./Obernh. II (63)
UID:3610e21d-578d-4df0-80d9-20c2bba43735
STATUS:CONFIRMED
LAST-MODIFIED:20260309T125158Z
DESCRIPTION:MJE-Spielrunde Ost\nBegegnungs-Nr: 63\nHeim: SG Anspach\nGast: SG Wehrh./Obernh. II\nHalle: Adolf-Reichwein-Gesamtschule 1 (16534)\nAdresse: Gustav-Heinemann-Straße\, 61267 Neu-Anspach\n
LOCATION:Adolf-Reichwein-Gesamtschule 1 (16534): Gustav-Heinemann-Straße\, 61267 Neu-Anspach
CATEGORIES:Saison 2025/26
END:VEVENT
BEGIN:VEVENT
DTSTAMP:20260425T182907Z
DTSTART;TZID=Europe/Berlin:20260125T110000
DTEND;TZID=Europe/Berlin:20260125T120000
SUMMARY:MJE-Spielrunde Ost Eintr. Frankfurt II vs SG Wehrh./Obernh. II (47)
UID:73c521e1-ee93-4485-a362-feb582fd3269
STATUS:CONFIRMED
LAST-MODIFIED:20260126T125342Z
DESCRIPTION:MJE-Spielrunde Ost\nBegegnungs-Nr: 47\nHeim: Eintr. Frankfurt II\nGast: SG Wehrh./Obernh. II\nHalle: IGS Friedrich-Ebert-Schule Seckbach (16525)\nAdresse: Arolser Straße 11\, 60389 Frankfurt\n
LOCATION:IGS Friedrich-Ebert-Schule Seckbach (16525): Arolser Straße 11\, 60389 Frankfurt
CATEGORIES:Saison 2025/26
END:VEVENT
BEGIN:VEVENT
DTSTAMP:20260425T182907Z
DTSTART;TZID=Europe/Berlin:20260117T100000
DTEND;TZID=Europe/Berlin:20260117T110000
SUMMARY:MJE-Spielrunde Ost TSG Oberursel II vs SG Wehrh./Obernh. II (41)
UID:f30f2e96-488e-4505-8231-6e6a462976d5
STATUS:CONFIRMED
LAST-MODIFIED:20260119T122147Z
DESCRIPTION:MJE-Spielrunde Ost\nBegegnungs-Nr: 41\nHeim: TSG Oberursel II\nGast: SG Wehrh./Obernh. II\nHalle: Hochtaunushalle Bad Homburg (16503)\nAdresse: Seifgrundstraße 3\, 61348 Bad Homburg\n
LOCATION:Hochtaunushalle Bad Homburg (16503): Seifgrundstraße 3\, 61348 Bad Homburg
CATEGORIES:Saison 2025/26
END:VEVENT
BEGIN:VEVENT
DTSTAMP:20260425T182907Z
DTSTART;TZID=Europe/Berlin:20251129T120000
DTEND;TZID=Europe/Berlin:20251129T130000
SUMMARY:MJE-Spielrunde Ost TV Petterweil II vs SG Wehrh./Obernh. II (31)
UID:d5b8281f-f57d-47be-b7b2-62985d052cee
STATUS:CONFIRMED
LAST-MODIFIED:20251201T111158Z
DESCRIPTION:MJE-Spielrunde Ost\nBegegnungs-Nr: 31\nHeim: TV Petterweil II\nGast: SG Wehrh./Obernh. II\nHalle: Sporthalle Petterweil (16530)\nAdresse: Sauerbornstraße 27\, 61184 Karben\n
LOCATION:Sporthalle Petterweil (16530): Sauerbornstraße 27\, 61184 Karben
CATEGORIES:Saison 2025/26
END:VEVENT
BEGIN:VEVENT
DTSTAMP:20260425T182907Z
DTSTART;TZID=Europe/Berlin:20251116T150000
DTEND;TZID=Europe/Berlin:20251116T160000
SUMMARY:MJE-Spielrunde Ost JSG Eschbach II vs SG Wehrh./Obernh. II (24)
UID:d3e88b0b-5b49-4b61-bcf0-0a05bb7e3705
STATUS:CONFIRMED
LAST-MODIFIED:20251117T114918Z
DESCRIPTION:MJE-Spielrunde Ost\nBegegnungs-Nr: 24\nHeim: JSG Eschbach II\nGast: SG Wehrh./Obernh. II\nHalle: Albin-Göhring-Halle Ober-Eschbach (16502)\nAdresse: Massenheimer Weg 2\, 61352 Bad Homburg\n
LOCATION:Albin-Göhring-Halle Ober-Eschbach (16502): Massenheimer Weg 2\, 61352 Bad Homburg
CATEGORIES:Saison 2025/26
END:VEVENT
BEGIN:VEVENT
DTSTAMP:20260425T182907Z
DTSTART;TZID=Europe/Berlin:20260207T123000
DTEND;TZID=Europe/Berlin:20260207T133000
SUMMARY:MJE-Spielrunde Ost HSG Steinb./Kronb./Glash. vs SG Wehrh./Obernh. II (55)
UID:5b1ad4e8-4ae8-4e18-9710-a59486880ca9
STATUS:CONFIRMED
LAST-MODIFIED:20260209T125956Z
DESCRIPTION:MJE-Spielrunde Ost\nBegegnungs-Nr: 55\nHeim: HSG Steinb./Kronb./Glash.\nGast: SG Wehrh./Obernh. II\nHalle: Altkönigsporthalle (16541)\nAdresse: Waldstraße 51\, 61449 Steinbach\n
LOCATION:Altkönigsporthalle (16541): Waldstraße 51\, 61449 Steinbach
CATEGORIES:Saison 2025/26
END:VEVENT
END:VCALENDAR
